BEGIN:VCALENDAR
VERSION:2.0
PRODID:-//Our Lady&#039;s Bishop Eton Catholic Primary School - ECPv6.15.20//NONSGML v1.0//EN
CALSCALE:GREGORIAN
METHOD:PUBLISH
X-WR-CALNAME:Our Lady&#039;s Bishop Eton Catholic Primary School
X-ORIGINAL-URL:https://ourladysbishopeton.com
X-WR-CALDESC:Events for Our Lady&#039;s Bishop Eton Catholic Primary School
REFRESH-INTERVAL;VALUE=DURATION:PT1H
X-Robots-Tag:noindex
X-PUBLISHED-TTL:PT1H
BEGIN:VTIMEZONE
TZID:Europe/London
BEGIN:DAYLIGHT
TZOFFSETFROM:+0000
TZOFFSETTO:+0100
TZNAME:BST
DTSTART:20250330T010000
END:DAYLIGHT
BEGIN:STANDARD
TZOFFSETFROM:+0100
TZOFFSETTO:+0000
TZNAME:GMT
DTSTART:20251026T010000
END:STANDARD
BEGIN:DAYLIGHT
TZOFFSETFROM:+0000
TZOFFSETTO:+0100
TZNAME:BST
DTSTART:20260329T010000
END:DAYLIGHT
BEGIN:STANDARD
TZOFFSETFROM:+0100
TZOFFSETTO:+0000
TZNAME:GMT
DTSTART:20261025T010000
END:STANDARD
BEGIN:DAYLIGHT
TZOFFSETFROM:+0000
TZOFFSETTO:+0100
TZNAME:BST
DTSTART:20270328T010000
END:DAYLIGHT
BEGIN:STANDARD
TZOFFSETFROM:+0100
TZOFFSETTO:+0000
TZNAME:GMT
DTSTART:20271031T010000
END:STANDARD
END:VTIMEZONE
BEGIN:VEVENT
DTSTART;VALUE=DATE:20260307
DTEND;VALUE=DATE:20260315
DTSTAMP:20260424T125038
CREATED:20250502T103359Z
LAST-MODIFIED:20250502T103359Z
UID:10000104-1772841600-1773532799@ourladysbishopeton.com
SUMMARY:Y5 Bormio Ski Trip
DESCRIPTION:
URL:https://ourladysbishopeton.com/event/y5-bormio-ski-trip/
END:VEVENT
END:VCALENDAR