BEGIN:VCALENDAR
VERSION:2.0
PRODID:-//Our Lady&#039;s Bishop Eton Catholic Primary School - ECPv6.15.20//NONSGML v1.0//EN
CALSCALE:GREGORIAN
METHOD:PUBLISH
X-WR-CALNAME:Our Lady&#039;s Bishop Eton Catholic Primary School
X-ORIGINAL-URL:https://ourladysbishopeton.com
X-WR-CALDESC:Events for Our Lady&#039;s Bishop Eton Catholic Primary School
REFRESH-INTERVAL;VALUE=DURATION:PT1H
X-Robots-Tag:noindex
X-PUBLISHED-TTL:PT1H
BEGIN:VTIMEZONE
TZID:Europe/London
BEGIN:DAYLIGHT
TZOFFSETFROM:+0000
TZOFFSETTO:+0100
TZNAME:BST
DTSTART:20230326T010000
END:DAYLIGHT
BEGIN:STANDARD
TZOFFSETFROM:+0100
TZOFFSETTO:+0000
TZNAME:GMT
DTSTART:20231029T010000
END:STANDARD
BEGIN:DAYLIGHT
TZOFFSETFROM:+0000
TZOFFSETTO:+0100
TZNAME:BST
DTSTART:20240331T010000
END:DAYLIGHT
BEGIN:STANDARD
TZOFFSETFROM:+0100
TZOFFSETTO:+0000
TZNAME:GMT
DTSTART:20241027T010000
END:STANDARD
BEGIN:DAYLIGHT
TZOFFSETFROM:+0000
TZOFFSETTO:+0100
TZNAME:BST
DTSTART:20250330T010000
END:DAYLIGHT
BEGIN:STANDARD
TZOFFSETFROM:+0100
TZOFFSETTO:+0000
TZNAME:GMT
DTSTART:20251026T010000
END:STANDARD
BEGIN:DAYLIGHT
TZOFFSETFROM:+0000
TZOFFSETTO:+0100
TZNAME:BST
DTSTART:20260329T010000
END:DAYLIGHT
BEGIN:STANDARD
TZOFFSETFROM:+0100
TZOFFSETTO:+0000
TZNAME:GMT
DTSTART:20261025T010000
END:STANDARD
END:VTIMEZONE
BEGIN:VEVENT
DTSTART;TZID=Europe/London:20250701T093000
DTEND;TZID=Europe/London:20250701T133000
DTSTAMP:20260424T190845
CREATED:20250502T100839Z
LAST-MODIFIED:20250502T101429Z
UID:10000093-1751362200-1751376600@ourladysbishopeton.com
SUMMARY:Y2 Liverpool City Tour
DESCRIPTION:Y2 children to go on the open air bus around the Liverpool City sights
URL:https://ourladysbishopeton.com/event/y2-liverpool-city-tour/
END:VEVENT
BEGIN:VEVENT
DTSTART;TZID=Europe/London:20250630T113000
DTEND;TZID=Europe/London:20250630T130000
DTSTAMP:20260424T190845
CREATED:20250502T100742Z
LAST-MODIFIED:20250502T100742Z
UID:10000092-1751283000-1751288400@ourladysbishopeton.com
SUMMARY:Y4 Attending Midday Mass
DESCRIPTION:
URL:https://ourladysbishopeton.com/event/y4-attending-midday-mass/
END:VEVENT
BEGIN:VEVENT
DTSTART;VALUE=DATE:20250627
DTEND;VALUE=DATE:20250628
DTSTAMP:20260424T190845
CREATED:20250502T100643Z
LAST-MODIFIED:20250502T100643Z
UID:10000091-1750982400-1751068799@ourladysbishopeton.com
SUMMARY:Feast of the Annunciation
DESCRIPTION:
URL:https://ourladysbishopeton.com/event/feast-of-the-annunciation/
END:VEVENT
BEGIN:VEVENT
DTSTART;TZID=Europe/London:20250623T145000
DTEND;TZID=Europe/London:20250623T150500
DTSTAMP:20260424T190845
CREATED:20250502T100210Z
LAST-MODIFIED:20250502T100210Z
UID:10000089-1750690200-1750691100@ourladysbishopeton.com
SUMMARY:Y1  Stay and Pray
DESCRIPTION:
URL:https://ourladysbishopeton.com/event/y1-stay-and-pray/
LOCATION:Our Lady’s Bishop Eton RC Primary School\, Green Lane\, Liverpool\, Merseyside\, L18 2EP\, United Kingdom
END:VEVENT
BEGIN:VEVENT
DTSTART;VALUE=DATE:20250623
DTEND;VALUE=DATE:20250628
DTSTAMP:20260424T190845
CREATED:20250502T100606Z
LAST-MODIFIED:20250502T100606Z
UID:10000090-1750636800-1751068799@ourladysbishopeton.com
SUMMARY:Y6 PGL residential
DESCRIPTION:Y6 pupils to arrive at Bishop Eton church at 1pm on 23rd June
URL:https://ourladysbishopeton.com/event/y6-pgl-residential/
LOCATION:PGL Boreatton Park\, Baschurch\,\, Shrewsbury\, Merseyside\, SY4 2BA\, United Kingdom
END:VEVENT
BEGIN:VEVENT
DTSTART;TZID=Europe/London:20250622T120000
DTEND;TZID=Europe/London:20250622T170000
DTSTAMP:20260424T190845
CREATED:20250502T100037Z
LAST-MODIFIED:20250502T100037Z
UID:10000088-1750593600-1750611600@ourladysbishopeton.com
SUMMARY:HSA Summer fair
DESCRIPTION:
URL:https://ourladysbishopeton.com/event/hsa-summer-fair/
LOCATION:Our Lady’s Bishop Eton RC Primary School\, Green Lane\, Liverpool\, Merseyside\, L18 2EP\, United Kingdom
END:VEVENT
BEGIN:VEVENT
DTSTART;TZID=Europe/London:20250619T091500
DTEND;TZID=Europe/London:20250619T100000
DTSTAMP:20260424T190845
CREATED:20250502T094827Z
LAST-MODIFIED:20250502T094827Z
UID:10000087-1750324500-1750327200@ourladysbishopeton.com
SUMMARY:Y4 First Holy Communion Party
DESCRIPTION:Parents invited to the school dining room
URL:https://ourladysbishopeton.com/event/y4-first-holy-communion-party/
LOCATION:Our Lady’s Bishop Eton RC Primary School\, Green Lane\, Liverpool\, Merseyside\, L18 2EP\, United Kingdom
END:VEVENT
BEGIN:VEVENT
DTSTART;VALUE=DATE:20250616
DTEND;VALUE=DATE:20250617
DTSTAMP:20260424T190845
CREATED:20240122T105750Z
LAST-MODIFIED:20240122T105750Z
UID:10000026-1750032000-1750118399@ourladysbishopeton.com
SUMMARY:Father's Day
DESCRIPTION:
URL:https://ourladysbishopeton.com/event/fathers-day/2025-06-16/
END:VEVENT
BEGIN:VEVENT
DTSTART;TZID=Europe/London:20250613T143000
DTEND;TZID=Europe/London:20250613T150000
DTSTAMP:20260424T190845
CREATED:20250502T094505Z
LAST-MODIFIED:20250502T094505Z
UID:10000086-1749825000-1749826800@ourladysbishopeton.com
SUMMARY:EYFS stay and pray
DESCRIPTION:
URL:https://ourladysbishopeton.com/event/eyfs-stay-and-pray/
END:VEVENT
BEGIN:VEVENT
DTSTART;TZID=Europe/London:20250611T090000
DTEND;TZID=Europe/London:20250611T150000
DTSTAMP:20260424T190845
CREATED:20250502T094347Z
LAST-MODIFIED:20250502T094421Z
UID:10000085-1749632400-1749654000@ourladysbishopeton.com
SUMMARY:Y6 Animate retreat day
DESCRIPTION:Y6 out of school all day
URL:https://ourladysbishopeton.com/event/y6-animate-retreat-day/
LOCATION:Animate Youth Ministries\, Lowe House\, 99 Crab Street\, St Helens\, WA10 2BE\, United Kingdom
END:VEVENT
BEGIN:VEVENT
DTSTART;VALUE=DATE:20250609
DTEND;VALUE=DATE:20250614
DTSTAMP:20260424T190845
CREATED:20250502T094105Z
LAST-MODIFIED:20250502T094105Z
UID:10000084-1749427200-1749859199@ourladysbishopeton.com
SUMMARY:Y1\, Y2\, Y3\, Y5 Assessment Week
DESCRIPTION:
URL:https://ourladysbishopeton.com/event/y1-y2-y3-y5-assessment-week/
END:VEVENT
BEGIN:VEVENT
DTSTART;VALUE=DATE:20250609
DTEND;VALUE=DATE:20250614
DTSTAMP:20260424T190845
CREATED:20250502T094006Z
LAST-MODIFIED:20250502T094006Z
UID:10000083-1749427200-1749859199@ourladysbishopeton.com
SUMMARY:Y4 Multiplication Table Check (MTC)
DESCRIPTION:
URL:https://ourladysbishopeton.com/event/y4-multiplication-table-check-mtc/
END:VEVENT
BEGIN:VEVENT
DTSTART;VALUE=DATE:20250609
DTEND;VALUE=DATE:20250614
DTSTAMP:20260424T190845
CREATED:20250502T093827Z
LAST-MODIFIED:20250502T093827Z
UID:10000082-1749427200-1749859199@ourladysbishopeton.com
SUMMARY:Y1 Phonics Screening Check
DESCRIPTION:
URL:https://ourladysbishopeton.com/event/y1-phonics-screening-check/
END:VEVENT
BEGIN:VEVENT
DTSTART;VALUE=DATE:20250526
DTEND;VALUE=DATE:20250607
DTSTAMP:20260424T190845
CREATED:20240902T131125Z
LAST-MODIFIED:20240902T131125Z
UID:10000050-1748217600-1749254399@ourladysbishopeton.com
SUMMARY:Half Term
DESCRIPTION:
URL:https://ourladysbishopeton.com/event/half-term-3/
END:VEVENT
BEGIN:VEVENT
DTSTART;TZID=Europe/London:20250524T110000
DTEND;TZID=Europe/London:20250524T143000
DTSTAMP:20260424T190845
CREATED:20250502T092420Z
LAST-MODIFIED:20250502T092420Z
UID:10000078-1748084400-1748097000@ourladysbishopeton.com
SUMMARY:4W First Holy Communion
DESCRIPTION:
URL:https://ourladysbishopeton.com/event/4w-first-holy-communion/
LOCATION:Our Lady of the Annunciation – Bishop Eton Church\, Our Lady of the Annunciation - Bishop Eton\, Woolton Rd\, Liverpool\, L16 8NQ\, United Kingdom
END:VEVENT
BEGIN:VEVENT
DTSTART;TZID=Europe/London:20250521T130000
DTEND;TZID=Europe/London:20250521T150000
DTSTAMP:20260424T190845
CREATED:20250502T093118Z
LAST-MODIFIED:20250502T093153Z
UID:10000080-1747832400-1747839600@ourladysbishopeton.com
SUMMARY:Y4 Sports Day
DESCRIPTION:Wavertree Sports Ground \nParents welcome to spectate
URL:https://ourladysbishopeton.com/event/y4-sports-day/
LOCATION:Wavertree Sports Ground\, Wavertree Sports Park\, Wellington Road\,\, Liverpool\, Merseyside\, L15 4LE\, United Kingdom
END:VEVENT
BEGIN:VEVENT
DTSTART;TZID=Europe/London:20250521T100000
DTEND;TZID=Europe/London:20250521T120000
DTSTAMP:20260424T190845
CREATED:20250502T092825Z
LAST-MODIFIED:20250502T093501Z
UID:10000079-1747821600-1747828800@ourladysbishopeton.com
SUMMARY:Y3 Sports Day
DESCRIPTION:Wavertree Sports Ground \nParents welcome to spectate
URL:https://ourladysbishopeton.com/event/y3-sports-day/
LOCATION:Wavertree Sports Ground\, Wavertree Sports Park\, Wellington Road\,\, Liverpool\, Merseyside\, L15 4LE\, United Kingdom
END:VEVENT
BEGIN:VEVENT
DTSTART;TZID=Europe/London:20250517T110000
DTEND;TZID=Europe/London:20250517T143000
DTSTAMP:20260424T190845
CREATED:20250502T092302Z
LAST-MODIFIED:20250502T092302Z
UID:10000077-1747479600-1747492200@ourladysbishopeton.com
SUMMARY:4M First Holy Communion
DESCRIPTION:
URL:https://ourladysbishopeton.com/event/4m-first-holy-communion/
LOCATION:Our Lady of the Annunciation – Bishop Eton\, Our Lady of the Annunciation - Bishop Eton\, Woolton Rd\, Liverpool\, Merseyside\, L16 8NQ\, United Kingdom
END:VEVENT
BEGIN:VEVENT
DTSTART;TZID=Europe/London:20250512T145000
DTEND;TZID=Europe/London:20250512T150300
DTSTAMP:20260424T190845
CREATED:20250502T093402Z
LAST-MODIFIED:20250502T093402Z
UID:10000081-1747061400-1747062180@ourladysbishopeton.com
SUMMARY:Y2 Stay and Pray
DESCRIPTION:
URL:https://ourladysbishopeton.com/event/y2-stay-and-pray/
END:VEVENT
BEGIN:VEVENT
DTSTART;VALUE=DATE:20250512
DTEND;VALUE=DATE:20250516
DTSTAMP:20260424T190845
CREATED:20250502T091704Z
LAST-MODIFIED:20250502T091704Z
UID:10000076-1747008000-1747353599@ourladysbishopeton.com
SUMMARY:Y6 KS2 SATs
DESCRIPTION:Parent letter with timetable sent out to Y6 parents
URL:https://ourladysbishopeton.com/event/y6-ks2-sats/
END:VEVENT
BEGIN:VEVENT
DTSTART;VALUE=DATE:20250502
DTEND;VALUE=DATE:20250503
DTSTAMP:20260424T190845
CREATED:20250502T091512Z
LAST-MODIFIED:20250502T091512Z
UID:10000075-1746144000-1746230399@ourladysbishopeton.com
SUMMARY:Bank Holiday
DESCRIPTION:Bank Holiday – School Closed
URL:https://ourladysbishopeton.com/event/bank-holiday/
END:VEVENT
BEGIN:VEVENT
DTSTART;TZID=Europe/London:20250424T143000
DTEND;TZID=Europe/London:20250424T153000
DTSTAMP:20260424T190845
CREATED:20250502T091343Z
LAST-MODIFIED:20250502T091343Z
UID:10000074-1745505000-1745508600@ourladysbishopeton.com
SUMMARY:Celebration of work
DESCRIPTION:Parents invited to school 2.30-3pm to look at pupil books
URL:https://ourladysbishopeton.com/event/celebration-of-work/
END:VEVENT
BEGIN:VEVENT
DTSTART;VALUE=DATE:20250423
DTEND;VALUE=DATE:20250424
DTSTAMP:20260424T190845
CREATED:20240122T102145Z
LAST-MODIFIED:20240122T102145Z
UID:10000015-1745366400-1745452799@ourladysbishopeton.com
SUMMARY:St George's Day
DESCRIPTION:
URL:https://ourladysbishopeton.com/event/st-georges-day/2025-04-23/
END:VEVENT
BEGIN:VEVENT
DTSTART;VALUE=DATE:20250317
DTEND;VALUE=DATE:20250318
DTSTAMP:20260424T190845
CREATED:20240122T102008Z
LAST-MODIFIED:20240122T102008Z
UID:10000010-1742169600-1742255999@ourladysbishopeton.com
SUMMARY:St Patrick's Day
DESCRIPTION:
URL:https://ourladysbishopeton.com/event/st-patricks-day/2025-03-17/
END:VEVENT
BEGIN:VEVENT
DTSTART;VALUE=DATE:20250301
DTEND;VALUE=DATE:20250302
DTSTAMP:20260424T190845
CREATED:20240122T101844Z
LAST-MODIFIED:20240122T101844Z
UID:10000005-1740787200-1740873599@ourladysbishopeton.com
SUMMARY:St David's Day
DESCRIPTION:
URL:https://ourladysbishopeton.com/event/st-davids-day/2025-03-01/
END:VEVENT
BEGIN:VEVENT
DTSTART;VALUE=DATE:20250217
DTEND;VALUE=DATE:20250222
DTSTAMP:20260424T190845
CREATED:20240902T130839Z
LAST-MODIFIED:20240902T130929Z
UID:10000049-1739750400-1740182399@ourladysbishopeton.com
SUMMARY:Half Term
DESCRIPTION:
URL:https://ourladysbishopeton.com/event/half-term-2/
END:VEVENT
BEGIN:VEVENT
DTSTART;VALUE=DATE:20241223
DTEND;VALUE=DATE:20250104
DTSTAMP:20260424T190845
CREATED:20240902T125802Z
LAST-MODIFIED:20240902T125802Z
UID:10000048-1734912000-1735948799@ourladysbishopeton.com
SUMMARY:Christmas Holiday
DESCRIPTION:
URL:https://ourladysbishopeton.com/event/christmas-holiday/
END:VEVENT
BEGIN:VEVENT
DTSTART;TZID=Europe/London:20241220T130000
DTEND;TZID=Europe/London:20241220T133000
DTSTAMP:20260424T190845
CREATED:20241010T141531Z
LAST-MODIFIED:20241014T112350Z
UID:10000073-1734699600-1734701400@ourladysbishopeton.com
SUMMARY:School closes for Christmas
DESCRIPTION:Early finish times to be sent out
URL:https://ourladysbishopeton.com/event/school-closes-for-christmas/
END:VEVENT
BEGIN:VEVENT
DTSTART;TZID=Europe/London:20241219T080000
DTEND;TZID=Europe/London:20241219T170000
DTSTAMP:20260424T190845
CREATED:20241010T140855Z
LAST-MODIFIED:20241010T140855Z
UID:10000072-1734595200-1734627600@ourladysbishopeton.com
SUMMARY:OLBE’s Got Talent
DESCRIPTION:Pupils only
URL:https://ourladysbishopeton.com/event/olbes-got-talent/
END:VEVENT
BEGIN:VEVENT
DTSTART;TZID=Europe/London:20241218T120000
DTEND;TZID=Europe/London:20241218T133000
DTSTAMP:20260424T190845
CREATED:20241010T140153Z
LAST-MODIFIED:20241010T140153Z
UID:10000071-1734523200-1734528600@ourladysbishopeton.com
SUMMARY:Christmas Dinner
DESCRIPTION:
URL:https://ourladysbishopeton.com/event/christmas-dinner/
END:VEVENT
END:VCALENDAR